BEGIN:VCALENDAR
VERSION:2.0
PRODID:-//Fora Health - ECPv6.15.20//NONSGML v1.0//EN
CALSCALE:GREGORIAN
METHOD:PUBLISH
X-WR-CALNAME:Fora Health
X-ORIGINAL-URL:https://forahealth.org
X-WR-CALDESC:Events for Fora Health
REFRESH-INTERVAL;VALUE=DURATION:PT1H
X-Robots-Tag:noindex
X-PUBLISHED-TTL:PT1H
BEGIN:VTIMEZONE
TZID:America/Los_Angeles
BEGIN:DAYLIGHT
TZOFFSETFROM:-0800
TZOFFSETTO:-0700
TZNAME:PDT
DTSTART:20210314T100000
END:DAYLIGHT
BEGIN:STANDARD
TZOFFSETFROM:-0700
TZOFFSETTO:-0800
TZNAME:PST
DTSTART:20211107T090000
END:STANDARD
BEGIN:DAYLIGHT
TZOFFSETFROM:-0800
TZOFFSETTO:-0700
TZNAME:PDT
DTSTART:20220313T100000
END:DAYLIGHT
BEGIN:STANDARD
TZOFFSETFROM:-0700
TZOFFSETTO:-0800
TZNAME:PST
DTSTART:20221106T090000
END:STANDARD
BEGIN:DAYLIGHT
TZOFFSETFROM:-0800
TZOFFSETTO:-0700
TZNAME:PDT
DTSTART:20230312T100000
END:DAYLIGHT
BEGIN:STANDARD
TZOFFSETFROM:-0700
TZOFFSETTO:-0800
TZNAME:PST
DTSTART:20231105T090000
END:STANDARD
BEGIN:DAYLIGHT
TZOFFSETFROM:-0800
TZOFFSETTO:-0700
TZNAME:PDT
DTSTART:20240310T100000
END:DAYLIGHT
BEGIN:STANDARD
TZOFFSETFROM:-0700
TZOFFSETTO:-0800
TZNAME:PST
DTSTART:20241103T090000
END:STANDARD
BEGIN:DAYLIGHT
TZOFFSETFROM:-0800
TZOFFSETTO:-0700
TZNAME:PDT
DTSTART:20250309T100000
END:DAYLIGHT
BEGIN:STANDARD
TZOFFSETFROM:-0700
TZOFFSETTO:-0800
TZNAME:PST
DTSTART:20251102T090000
END:STANDARD
END:VTIMEZONE
BEGIN:VEVENT
DTSTART;TZID=America/Los_Angeles:20240620T163000
DTEND;TZID=America/Los_Angeles:20240620T190000
DTSTAMP:20260422T022825
CREATED:20240515T202520Z
LAST-MODIFIED:20240515T202753Z
UID:8893-1718901000-1718910000@forahealth.org
SUMMARY:Annual Meeting and Community Partner Awards
DESCRIPTION:Celebrating Fora Health’s fiscal year 2024 and recognizing partners who helped make the year a success. \n\nPlease join us to celebrate the Fora Health recovery community – donors\, partners\, alumni and friends! We’re excited to share a recap of the eventful past year and give tours of our state-of-the-art facility.\n4:30 PM | Building Tours\n5:00 PM | Hosted Appetizers & Desserts\n5:30 PM | Presentation & Awards
URL:https://forahealth.org/event/annual-meeting-and-community-partner-awards/
LOCATION:Fora Health\, 10230 SE Cherry Blossom Dr.\, Portland\, OR\, 97216\, United States
CATEGORIES:Fundraising
ATTACH;FMTTYPE=image/png:https://forahealth.org/wp-content/uploads/Artboard-1-copy.png
END:VEVENT
BEGIN:VEVENT
DTSTART;TZID=America/Los_Angeles:20231019T113000
DTEND;TZID=America/Los_Angeles:20231019T130000
DTSTAMP:20260422T022825
CREATED:20230411T174543Z
LAST-MODIFIED:20230831T072615Z
UID:6882-1697715000-1697720400@forahealth.org
SUMMARY:23rd Annual Freedom Awards
DESCRIPTION:Event Information \nThursday\, October 19\, 2023\, 11:30 to 1:00 pm\nSentinel Hotel | 614 SW 11th Ave\, Portland\, OR 97205 \nSponsorship Information \nFor over 20 years\, the Freedom Awards brings together a diverse audience of community members\, businesses\, elected officials\, and non-profits to talk about addiction\, celebrate recovery and support our treatment programs for individuals with substance use and co-occurring mental health disorders. This event recognizes community members who support and work toward ending the stigma of addiction. \n  \n\n \nThank you to our sponsors!
URL:https://forahealth.org/event/fa23/
LOCATION:Sentinel Hotel\, 614 SW 11th Ave\, Portland\, OR\, 97205\, United States
CATEGORIES:Fundraising
ATTACH;FMTTYPE=image/png:https://forahealth.org/wp-content/uploads/FA-Website-Banner.png
END:VEVENT
BEGIN:VEVENT
DTSTART;TZID=America/Los_Angeles:20230323T100000
DTEND;TZID=America/Los_Angeles:20230323T120000
DTSTAMP:20260422T022825
CREATED:20220725T072627Z
LAST-MODIFIED:20230210T195328Z
UID:5487-1679565600-1679572800@forahealth.org
SUMMARY:Let's Discuss: How Everyone Can Be Happy: The Keys to Happiness - Sunny Grosso
DESCRIPTION:How is Happiness achieved in our lives\, work\, and our communities. Sunny Grosso\, the Culture Chief of Delivering Happiness with a decade of applied research in happiness\, a BA in psychology\, ORSC and NLP coaching credentials\, will take through the global movement known as Delivering Happiness\, illustrating the role of happiness\, wellness\, and mindfulness in our personal lives and in business today. She’ll dive into insights from positive psychology and the subfield\, the science of happiness then shares colorful stories to inspire sustainable happiness in our lives\, at work\, in our communities. We’ll end with an inspiring call to action to choose happiness for more meaningful lives\, successful businesses\, and a happier world. \nThrough this dynamic in-person or virtual presentation\, participants will: \n\nThe secret sauce of The Delivering Happiness Model: how to create a culture for lasting happiness.\nHow happiness as a business model = profits\, passion\, and purpose\n\n\nTips and tools to start building sustainable happiness in our lives and at work right away.\nWhy sustainable happiness and culture change must start with ME\, the individual.\nThe OTHER ROI\, Ripples of Impact: from the personal level of ME to WE to COMMUNITY\nHow to build a grassroots movement of happiness with your family/teams\nLeave understanding how prioritizing happiness at work and in life can change the world more than we ever thought possible and how it is all in our control.\n\nGeneral Admission Free!  \n1.75 CEUs \nThanks to our generous sponsors and our dedication to ensuring mental health education is timely and widely accessible\, general admission at our remaining Let’s Discuss events is free! \nGet your VIP ticket to attend an exclusive pre-event reception at 9:15 AM with time to meet the speaker\, get your book signed and have some delicious breakfast and coffee! \n \nFor more information about the Let’s Discuss series click here.
URL:https://forahealth.org/event/letsdiscuss-grosso/
LOCATION:Buckley Center Auditorium | University of Portland\, 5000 N Willamette Blvd\, Portland\, Oregon\, 97203
CATEGORIES:Let’s Discuss: Shining a Spotlight on Mental Wellness
ATTACH;FMTTYPE=image/png:https://forahealth.org/wp-content/uploads/Sunny-Grosso-Event-Image.png
END:VEVENT
BEGIN:VEVENT
DTSTART;TZID=America/Los_Angeles:20230223T100000
DTEND;TZID=America/Los_Angeles:20230223T120000
DTSTAMP:20260422T022825
CREATED:20220725T072116Z
LAST-MODIFIED:20230223T030858Z
UID:5484-1677146400-1677153600@forahealth.org
SUMMARY:Let's Discuss: How Trauma Works and How to Heal from It - Dr. Paul Conti
DESCRIPTION:Due to the weather\, the event is now only available virtually.\nJoin Fora Health to hear Dr. Paul Conti\, a Stanford University School of Medicine graduate\, as he delves into trauma and how to heal from it. Dr. Conti completed his psychiatry training at Stanford and Harvard\, where he was appointed chief resident. He served on the medical faculty at Harvard before moving to Portland\, Oregon\, and founding the Pacific Premier Group clinic. Dr. Conti serves patients and clients throughout the United States and internationally\, including the executive leadership of large corporations. His book\, Trauma: The Invisible Epidemic\, brings valuable insights into how we can collectively heal from trauma and its effects on our community. \nGeneral Admission Free!  \n1.5 CEU / 1.5 General CLE Credits \nThanks to our generous sponsors and our dedication to ensuring mental health education is timely and widely accessible\, general admission at our remaining Let’s Discuss events is free! \n \nFor more information about the Let’s Discuss series click here.
URL:https://forahealth.org/event/letsdiscuss-conti/
LOCATION:OHSU Knight Cancer Research Center Auditorium\, 2720 S Moody Ave.\, Portland\, OR\, 97201\, United States
CATEGORIES:Let’s Discuss: Shining a Spotlight on Mental Wellness
END:VEVENT
BEGIN:VEVENT
DTSTART;TZID=America/Los_Angeles:20230126T100000
DTEND;TZID=America/Los_Angeles:20230126T120000
DTSTAMP:20260422T022825
CREATED:20220725T071723Z
LAST-MODIFIED:20221216T064517Z
UID:5482-1674727200-1674734400@forahealth.org
SUMMARY:Let's Discuss: Addiction: A Futurist Perspective - Dr. Omar Manejwala
DESCRIPTION:As one of the nation’s leading experts on addiction medicine\, substance use disorders\, behavioral health and mental illness\, Dr. Omar Manejwala is passionate about giving people accessible terms to understand the science of addiction and behavioral health. Join thousands who have benefited from his crucial teachings. You will learn to leverage behavioral science insights to change your habits and life. \nGet your VIP ticket to attend an exclusive pre-event reception at 9:15 AM with time to meet the speaker\, get your book signed and have some delicious breakfast and coffee! \n \nGain valuable insights on the future of addiction: \n\nTrends in addiction prevention and treatment\, and potential future trajectories.\nSociopolitical forces that may serve to shape future approaches to addiction management\nPrediction of the role of “big data” in defining future approaches to addiction management\nForecast of potential technological innovations and their impact on addictions\, including\, for example\, the Internet of Things.\nReview the central features of healthcare innovation and with proposal of how these might manifest in the future of addiction prevention and treatment.\n\n  \nAbout Dr. Manejwala\nDr. Omar Manejwala has over 15 years of experience treating addictive disorders. A Duke trained psychiatrist and former Hazelden Medical Director\, Dr. Omar is now Chief Medical Officer of an LA based national health services management company. Dr. Manejwala has treated thousands of patients with addictions from all walks of life\, and is widely regarded as one of the nation’s leading experts on addiction. He is one of the nation’s most sought after speakers on the topic of addiction. In his latest book\, William Cope Moyers says “Dr. Omar knows addiction medicine inside and out.” Bio: Omar Manejwala\, M.D. is an addiction psychiatrist\, international speaker\, former Hazelden Medical Director\, and bestselling author of the book Craving Why We Can’t Seem to Get Enough. He has appeared in dozens of media outlets including 20/20\, CNN\, The CBS Early Show\, ABC Primetime and many others. \n  \nFor more information about the Let’s Discuss series click here.
URL:https://forahealth.org/event/letsdiscuss-manejwala/
LOCATION:Buckley Center Auditorium | University of Portland\, 5000 N Willamette Blvd\, Portland\, Oregon\, 97203
CATEGORIES:Let’s Discuss: Shining a Spotlight on Mental Wellness
ATTACH;FMTTYPE=image/png:https://forahealth.org/wp-content/uploads/Dr.-Omar-Manejwala-Event-Image.png
END:VEVENT
BEGIN:VEVENT
DTSTART;TZID=America/Los_Angeles:20221201T190000
DTEND;TZID=America/Los_Angeles:20221201T210000
DTSTAMP:20260422T022825
CREATED:20220722T075644Z
LAST-MODIFIED:20221013T065736Z
UID:5456-1669921200-1669928400@forahealth.org
SUMMARY:Let's Discuss: Peace in Times of Uncertainty - Mike Veny
DESCRIPTION:Mike Veny is not the same old textbook presentation on mental health. From Fortune 500 CEOs to students in K-12\, audiences agree that Mike Veny is engaging and entertaining and will help audience members improve their wellness. Don’t miss this dynamic presentation that delivers the gift of emotional wellness through unique learning experiences designed to empower your personal and professional growth. \nGet your VIP ticket to attend an exclusive pre-event reception at 6:00 PM with time to meet the speaker\, get your book signed and have some delicious hors d’oeuvres and mocktails! \n \nFor more information about the Let’s Discuss series click here.
URL:https://forahealth.org/event/letsdiscuss-veny/
LOCATION:OHSU Knight Cancer Research Center Auditorium\, 2720 S Moody Ave.\, Portland\, OR\, 97201\, United States
CATEGORIES:Let’s Discuss: Shining a Spotlight on Mental Wellness
ATTACH;FMTTYPE=image/png:https://forahealth.org/wp-content/uploads/Mike-Veny-Event-Image.png
END:VEVENT
BEGIN:VEVENT
DTSTART;TZID=America/Los_Angeles:20221027T190000
DTEND;TZID=America/Los_Angeles:20221027T210000
DTSTAMP:20260422T022825
CREATED:20220719T231113Z
LAST-MODIFIED:20221007T050619Z
UID:5437-1666897200-1666904400@forahealth.org
SUMMARY:Let's Discuss: Building a Mentally Healthy Workplace - Petra Velzeboer
DESCRIPTION:Join us to hear world-renowned mental health expert Petra Velzeboer as we explore how to build a mentally healthy workplace. Companies worldwide have sought this TEDx Talk speaker to understand her transformative approach to mental health and help illuminate the humor in our humanness. \nGet your VIP ticket to attend an exclusive pre-event reception at 6:00 PM with time to meet the speaker\, get your book signed and have some delicious hors d’oeuvres and mocktails! \n \nFor more information about the Let’s Discuss series click here.
URL:https://forahealth.org/event/letsdiscuss-velzeboer/
LOCATION:OHSU Knight Cancer Research Center Auditorium\, 2720 S Moody Ave.\, Portland\, OR\, 97201\, United States
CATEGORIES:Let’s Discuss: Shining a Spotlight on Mental Wellness
ATTACH;FMTTYPE=image/png:https://forahealth.org/wp-content/uploads/Petra-Velzeboer-Event-Image.png
END:VEVENT
BEGIN:VEVENT
DTSTART;TZID=America/Los_Angeles:20220922T190000
DTEND;TZID=America/Los_Angeles:20220922T210000
DTSTAMP:20260422T022825
CREATED:20220719T230656Z
LAST-MODIFIED:20221007T050702Z
UID:5430-1663873200-1663880400@forahealth.org
SUMMARY:Let's Discuss: Rethinking Addiction - Social Recovery in the Age of Loneliness - Johann Hari
DESCRIPTION:Purchase tickets here. \nJoin us to hear New York Times best-selling author Johann Hari talk about Rethinking Addiction\, a follow up to his previous TED Talk. Johann is best known for his guest appearance on Oprah’s Super Soul podcast and his TED Talk\, which received over 80 million views. Johann challenges audiences to evaluate how we think about addiction and what we can do as a community to solve the crisis at hand. \nGet your VIP ticket to attend an exclusive pre-event reception at 6:00 PM with time to meet the speaker\, get your book signed and have some delicious hors d’oeuvres and mocktails! \n \nFor more information about the Let’s Discuss series click here.
URL:https://forahealth.org/event/letsdiscuss-hari/
LOCATION:Buckley Center Auditorium | University of Portland\, 5000 N Willamette Blvd\, Portland\, Oregon\, 97203
CATEGORIES:Let’s Discuss: Shining a Spotlight on Mental Wellness
ATTACH;FMTTYPE=image/png:https://forahealth.org/wp-content/uploads/Johann-Hari-Event-Image.png
END:VEVENT
BEGIN:VEVENT
DTSTART;TZID=America/Los_Angeles:20220428T113000
DTEND;TZID=America/Los_Angeles:20220428T130000
DTSTAMP:20260422T022825
CREATED:20210803T074351Z
LAST-MODIFIED:20220427T211127Z
UID:2194-1651145400-1651150800@forahealth.org
SUMMARY:22nd Annual Freedom Awards
DESCRIPTION:Event Details (In-Person or Virtual)\nThursday\, April 28\, 2022\, 11:30 to 1:00 pm\nSentinel Hotel | 614 SW 11th Ave\, Portland\, OR 97205\nTickets can be purchased in-person at the door. \nStream Virtual Program Here! \nFor over 20 years\, the Freedom Awards brings together a diverse audience of community members\, businesses\, elected officials\, and non-profits to talk about addiction\, celebrate recovery and support our treatment programs for individuals with substance use and co-occurring mental health disorders. This event recognizes community members who support and work toward ending the stigma of addiction. \nThis year’s recipient of the Samuel C. Wheeler Freedom Award is Representative Tawna Sanchez who has been a behavioral health champion in the legislature and helped to lead the Oregon’s recent historic investment to support those who struggle with addiction and mental health conditions. We will also honor Representative Rob Nosse and Senator Kate Lieber with the Spirit of Recovery Advocacy Award for their legislative leadership and work as behavioral health champions. \nLearn more about our honorees. \nThank you to our sponsors! \n \nWe are requesting that guests attending the Freedom Awards be fully vaccinated.  Also that guests should not have tested positive for COVID-19 or have been exposed to anyone who has COVID-19 within 10 days of the event. The Oregon Health Authority still recommends masking for people at higher risk from COVID-19\, including unvaccinated people and immunocompromised people. We highly encouraged all people attending the event to wear a mask. In addition we have supplemental safety protocols in place\, such as hand sanitizing and social distancing. You acknowledge that you are aware of the risks involved with attending this event during the COVID-19 pandemic and are choosing to do so of your own accord. You agree to waive and release Fora Health\, Inc. from liability for any claim related to COVID-19.
URL:https://forahealth.org/event/fa22/
LOCATION:Sentinel Hotel\, 614 SW 11th Ave\, Portland\, OR\, 97205\, United States
CATEGORIES:Fundraising
ATTACH;FMTTYPE=image/png:https://forahealth.org/wp-content/uploads/FA_web_banner@2x.png
END:VEVENT
END:VCALENDAR