BEGIN:VCALENDAR
VERSION:2.0
PRODID:-//Fora Health - ECPv6.15.20//NONSGML v1.0//EN
CALSCALE:GREGORIAN
METHOD:PUBLISH
X-WR-CALNAME:Fora Health
X-ORIGINAL-URL:https://forahealth.org
X-WR-CALDESC:Events for Fora Health
REFRESH-INTERVAL;VALUE=DURATION:PT1H
X-Robots-Tag:noindex
X-PUBLISHED-TTL:PT1H
BEGIN:VTIMEZONE
TZID:America/Los_Angeles
BEGIN:DAYLIGHT
TZOFFSETFROM:-0800
TZOFFSETTO:-0700
TZNAME:PDT
DTSTART:20210314T100000
END:DAYLIGHT
BEGIN:STANDARD
TZOFFSETFROM:-0700
TZOFFSETTO:-0800
TZNAME:PST
DTSTART:20211107T090000
END:STANDARD
BEGIN:DAYLIGHT
TZOFFSETFROM:-0800
TZOFFSETTO:-0700
TZNAME:PDT
DTSTART:20220313T100000
END:DAYLIGHT
BEGIN:STANDARD
TZOFFSETFROM:-0700
TZOFFSETTO:-0800
TZNAME:PST
DTSTART:20221106T090000
END:STANDARD
BEGIN:DAYLIGHT
TZOFFSETFROM:-0800
TZOFFSETTO:-0700
TZNAME:PDT
DTSTART:20230312T100000
END:DAYLIGHT
BEGIN:STANDARD
TZOFFSETFROM:-0700
TZOFFSETTO:-0800
TZNAME:PST
DTSTART:20231105T090000
END:STANDARD
BEGIN:DAYLIGHT
TZOFFSETFROM:-0800
TZOFFSETTO:-0700
TZNAME:PDT
DTSTART:20240310T100000
END:DAYLIGHT
BEGIN:STANDARD
TZOFFSETFROM:-0700
TZOFFSETTO:-0800
TZNAME:PST
DTSTART:20241103T090000
END:STANDARD
BEGIN:DAYLIGHT
TZOFFSETFROM:-0800
TZOFFSETTO:-0700
TZNAME:PDT
DTSTART:20250309T100000
END:DAYLIGHT
BEGIN:STANDARD
TZOFFSETFROM:-0700
TZOFFSETTO:-0800
TZNAME:PST
DTSTART:20251102T090000
END:STANDARD
END:VTIMEZONE
BEGIN:VEVENT
DTSTART;TZID=America/Los_Angeles:20240620T163000
DTEND;TZID=America/Los_Angeles:20240620T190000
DTSTAMP:20260420T030934
CREATED:20240515T202520Z
LAST-MODIFIED:20240515T202753Z
UID:8893-1718901000-1718910000@forahealth.org
SUMMARY:Annual Meeting and Community Partner Awards
DESCRIPTION:Celebrating Fora Health’s fiscal year 2024 and recognizing partners who helped make the year a success. \n\nPlease join us to celebrate the Fora Health recovery community – donors\, partners\, alumni and friends! We’re excited to share a recap of the eventful past year and give tours of our state-of-the-art facility.\n4:30 PM | Building Tours\n5:00 PM | Hosted Appetizers & Desserts\n5:30 PM | Presentation & Awards
URL:https://forahealth.org/event/annual-meeting-and-community-partner-awards/
LOCATION:Fora Health\, 10230 SE Cherry Blossom Dr.\, Portland\, OR\, 97216\, United States
CATEGORIES:Fundraising
ATTACH;FMTTYPE=image/png:https://forahealth.org/wp-content/uploads/Artboard-1-copy.png
END:VEVENT
BEGIN:VEVENT
DTSTART;TZID=America/Los_Angeles:20231019T113000
DTEND;TZID=America/Los_Angeles:20231019T130000
DTSTAMP:20260420T030934
CREATED:20230411T174543Z
LAST-MODIFIED:20230831T072615Z
UID:6882-1697715000-1697720400@forahealth.org
SUMMARY:23rd Annual Freedom Awards
DESCRIPTION:Event Information \nThursday\, October 19\, 2023\, 11:30 to 1:00 pm\nSentinel Hotel | 614 SW 11th Ave\, Portland\, OR 97205 \nSponsorship Information \nFor over 20 years\, the Freedom Awards brings together a diverse audience of community members\, businesses\, elected officials\, and non-profits to talk about addiction\, celebrate recovery and support our treatment programs for individuals with substance use and co-occurring mental health disorders. This event recognizes community members who support and work toward ending the stigma of addiction. \n  \n\n \nThank you to our sponsors!
URL:https://forahealth.org/event/fa23/
LOCATION:Sentinel Hotel\, 614 SW 11th Ave\, Portland\, OR\, 97205\, United States
CATEGORIES:Fundraising
ATTACH;FMTTYPE=image/png:https://forahealth.org/wp-content/uploads/FA-Website-Banner.png
END:VEVENT
BEGIN:VEVENT
DTSTART;TZID=America/Los_Angeles:20220428T113000
DTEND;TZID=America/Los_Angeles:20220428T130000
DTSTAMP:20260420T030935
CREATED:20210803T074351Z
LAST-MODIFIED:20220427T211127Z
UID:2194-1651145400-1651150800@forahealth.org
SUMMARY:22nd Annual Freedom Awards
DESCRIPTION:Event Details (In-Person or Virtual)\nThursday\, April 28\, 2022\, 11:30 to 1:00 pm\nSentinel Hotel | 614 SW 11th Ave\, Portland\, OR 97205\nTickets can be purchased in-person at the door. \nStream Virtual Program Here! \nFor over 20 years\, the Freedom Awards brings together a diverse audience of community members\, businesses\, elected officials\, and non-profits to talk about addiction\, celebrate recovery and support our treatment programs for individuals with substance use and co-occurring mental health disorders. This event recognizes community members who support and work toward ending the stigma of addiction. \nThis year’s recipient of the Samuel C. Wheeler Freedom Award is Representative Tawna Sanchez who has been a behavioral health champion in the legislature and helped to lead the Oregon’s recent historic investment to support those who struggle with addiction and mental health conditions. We will also honor Representative Rob Nosse and Senator Kate Lieber with the Spirit of Recovery Advocacy Award for their legislative leadership and work as behavioral health champions. \nLearn more about our honorees. \nThank you to our sponsors! \n \nWe are requesting that guests attending the Freedom Awards be fully vaccinated.  Also that guests should not have tested positive for COVID-19 or have been exposed to anyone who has COVID-19 within 10 days of the event. The Oregon Health Authority still recommends masking for people at higher risk from COVID-19\, including unvaccinated people and immunocompromised people. We highly encouraged all people attending the event to wear a mask. In addition we have supplemental safety protocols in place\, such as hand sanitizing and social distancing. You acknowledge that you are aware of the risks involved with attending this event during the COVID-19 pandemic and are choosing to do so of your own accord. You agree to waive and release Fora Health\, Inc. from liability for any claim related to COVID-19.
URL:https://forahealth.org/event/fa22/
LOCATION:Sentinel Hotel\, 614 SW 11th Ave\, Portland\, OR\, 97205\, United States
CATEGORIES:Fundraising
ATTACH;FMTTYPE=image/png:https://forahealth.org/wp-content/uploads/FA_web_banner@2x.png
END:VEVENT
END:VCALENDAR